BEGIN:VCALENDAR
VERSION:2.0
PRODID:-//Annissa Runa - ECPv6.15.18//NONSGML v1.0//EN
CALSCALE:GREGORIAN
METHOD:PUBLISH
X-ORIGINAL-URL:https://annissa-runa.com
X-WR-CALDESC:Veranstaltungen für Annissa Runa
REFRESH-INTERVAL;VALUE=DURATION:PT1H
X-Robots-Tag:noindex
X-PUBLISHED-TTL:PT1H
BEGIN:VTIMEZONE
TZID:UTC
BEGIN:STANDARD
TZOFFSETFROM:+0000
TZOFFSETTO:+0000
TZNAME:UTC
DTSTART:20240101T000000
END:STANDARD
END:VTIMEZONE
BEGIN:VEVENT
DTSTART;TZID=UTC:20250627T193000
DTEND;TZID=UTC:20250627T203000
DTSTAMP:20260420T121902
CREATED:20250611T141726Z
LAST-MODIFIED:20250611T141727Z
UID:1807-1751052600-1751056200@annissa-runa.com
SUMMARY:Live bei Annissa Runa: „Polyamorie im Kopf“ – Geschichten über freie Liebe
DESCRIPTION:🎤 Online-Lesung Polyamorie im Kopf – Annissa Runa live am 27.06.2025\n✨ Geschichten über Beziehungsvielfalt\, Sehnsucht und Freiheit\nIn dieser Online-Lesung Polyamorie im Kopf liest Annissa Runa aus ihrem neuen Buch über das Lieben in Verbindung\, Vielfalt und Selbstbestimmung. \n\n\n\nDie Kurzgeschichten sind ehrlich\, berührend und oft augenzwinkernd – sie zeigen echte Menschen in offenen\, polyamoren Beziehungen\, mit all ihren Hoffnungen\, Widersprüchen und Entwicklungsschritten. \n📖 Was dich erwartet\n\nLesung ausgewählter Geschichten aus „Polyamorie im Kopf“\nEinblicke in polyamore Lebensentwürfe\nAustausch über Beziehungsmodelle jenseits der Monogamie\nZeit für Fragen & Diskussion am Ende\n\n\n\n\n🧑‍💻 Veranstaltungsdetails\n\n🗓️ Datum: Freitag\, 27. Juni 2025\n🕒 Uhrzeit: 19:30–20:30 Uhr\n🌐 Ort: Online via Jitsi\n💸 Teilnahme: kostenlos\n✉️ Anmeldung: über das Kontaktformular – der Zugangslink wird rechtzeitig per Mail verschickt.\n\n❤️ Für wen ist die Lesung gedacht?\nFür alle\, die sich für Beziehungsfreiheit interessieren: ob poly-erfahren\, neu neugierig oder kritisch-reflektierend. Es sind keine Vorkenntnisse nötig – nur Offenheit. \n👤 Über die Autorin\nAnnissa Runa schreibt über weibliche Lust\, Freiheit und neue Beziehungskulturen. Ihre Texte verbinden Authentizität mit sprachlicher Schönheit und sozialer Reflexion. „Polyamorie im Kopf“ ist ihr jüngstes Werk – mutig\, feinfühlig und inspirierend.
URL:https://annissa-runa.com/event/online-lesung-polyamorie-im-kopf/
CATEGORIES:Lesung
ATTACH;FMTTYPE=image/webp:https://annissa-runa.com/wp-content/uploads/2025/05/coverbild-polyamorie-im-kopf-800.webp
ORGANIZER;CN="Annissa Runa":MAILTO:kontakt@annissa-runa.com
END:VEVENT
END:VCALENDAR